BEGIN:VCALENDAR
VERSION:2.0
PRODID:-//Deaf and Hard of Hearing Center - ECPv6.15.20//NONSGML v1.0//EN
CALSCALE:GREGORIAN
METHOD:PUBLISH
X-WR-CALNAME:Deaf and Hard of Hearing Center
X-ORIGINAL-URL:https://deafhhcenter.org
X-WR-CALDESC:Events for Deaf and Hard of Hearing Center
REFRESH-INTERVAL;VALUE=DURATION:PT1H
X-Robots-Tag:noindex
X-PUBLISHED-TTL:PT1H
BEGIN:VTIMEZONE
TZID:America/Chicago
BEGIN:DAYLIGHT
TZOFFSETFROM:-0600
TZOFFSETTO:-0500
TZNAME:CDT
DTSTART:20240310T080000
END:DAYLIGHT
BEGIN:STANDARD
TZOFFSETFROM:-0500
TZOFFSETTO:-0600
TZNAME:CST
DTSTART:20241103T070000
END:STANDARD
BEGIN:DAYLIGHT
TZOFFSETFROM:-0600
TZOFFSETTO:-0500
TZNAME:CDT
DTSTART:20250309T080000
END:DAYLIGHT
BEGIN:STANDARD
TZOFFSETFROM:-0500
TZOFFSETTO:-0600
TZNAME:CST
DTSTART:20251102T070000
END:STANDARD
BEGIN:DAYLIGHT
TZOFFSETFROM:-0600
TZOFFSETTO:-0500
TZNAME:CDT
DTSTART:20260308T080000
END:DAYLIGHT
BEGIN:STANDARD
TZOFFSETFROM:-0500
TZOFFSETTO:-0600
TZNAME:CST
DTSTART:20261101T070000
END:STANDARD
END:VTIMEZONE
BEGIN:VTIMEZONE
TZID:UTC
BEGIN:STANDARD
TZOFFSETFROM:+0000
TZOFFSETTO:+0000
TZNAME:UTC
DTSTART:20230101T000000
END:STANDARD
END:VTIMEZONE
BEGIN:VEVENT
DTSTART;TZID=America/Chicago:20250408T183000
DTEND;TZID=America/Chicago:20250408T203000
DTSTAMP:20260424T020447
CREATED:20250205T203735Z
LAST-MODIFIED:20250205T205513Z
UID:10000019-1744137000-1744144200@deafhhcenter.org
SUMMARY:Conversational ASL II
DESCRIPTION:
URL:https://deafhhcenter.org/event/conversational-asl-ii/2025-04-08/
LOCATION:Deaf and Hard of Hearing Center\, 5151 Mcardle Rd\, Corpus Christi\, TX\, United States
CATEGORIES:Corpus Christi
ATTACH;FMTTYPE=image/jpeg:https://deafhhcenter.org/wp-content/uploads/2025/02/SpringASL-02.jpg
END:VEVENT
BEGIN:VEVENT
DTSTART;TZID=America/Chicago:20250407T183000
DTEND;TZID=America/Chicago:20250407T203000
DTSTAMP:20260424T020447
CREATED:20250205T163424Z
LAST-MODIFIED:20250331T151705Z
UID:10000011-1744050600-1744057800@deafhhcenter.org
SUMMARY:Conversational ASL I - CANCELLED
DESCRIPTION:
URL:https://deafhhcenter.org/event/conversational-asl-i/2025-04-07/
LOCATION:Deaf and Hard of Hearing Center\, 5151 Mcardle Rd\, Corpus Christi\, TX\, United States
CATEGORIES:Corpus Christi
ATTACH;FMTTYPE=image/jpeg:https://deafhhcenter.org/wp-content/uploads/2025/02/SpringASL-01-01-scaled.jpg
END:VEVENT
BEGIN:VEVENT
DTSTART;TZID=America/Chicago:20250402T183000
DTEND;TZID=America/Chicago:20250402T203000
DTSTAMP:20260424T020447
CREATED:20250205T205130Z
LAST-MODIFIED:20250205T205602Z
UID:10000078-1743618600-1743625800@deafhhcenter.org
SUMMARY:Conversational ASL III
DESCRIPTION:
URL:https://deafhhcenter.org/event/conversational-asl-iii/2025-04-02/
LOCATION:Deaf and Hard of Hearing Center\, 5151 Mcardle Rd\, Corpus Christi\, TX\, United States
CATEGORIES:Corpus Christi
ATTACH;FMTTYPE=image/jpeg:https://deafhhcenter.org/wp-content/uploads/2025/02/SpringASL-03.jpg
END:VEVENT
BEGIN:VEVENT
DTSTART;TZID=America/Chicago:20250401T183000
DTEND;TZID=America/Chicago:20250401T203000
DTSTAMP:20260424T020447
CREATED:20250205T203735Z
LAST-MODIFIED:20250205T205513Z
UID:10000018-1743532200-1743539400@deafhhcenter.org
SUMMARY:Conversational ASL II
DESCRIPTION:
URL:https://deafhhcenter.org/event/conversational-asl-ii/2025-04-01/
LOCATION:Deaf and Hard of Hearing Center\, 5151 Mcardle Rd\, Corpus Christi\, TX\, United States
CATEGORIES:Corpus Christi
ATTACH;FMTTYPE=image/jpeg:https://deafhhcenter.org/wp-content/uploads/2025/02/SpringASL-02.jpg
END:VEVENT
BEGIN:VEVENT
DTSTART;TZID=America/Chicago:20250331T183000
DTEND;TZID=America/Chicago:20250331T203000
DTSTAMP:20260424T020447
CREATED:20250205T163424Z
LAST-MODIFIED:20250331T151705Z
UID:10000010-1743445800-1743453000@deafhhcenter.org
SUMMARY:Conversational ASL I - CANCELLED
DESCRIPTION:
URL:https://deafhhcenter.org/event/conversational-asl-i/2025-03-31/
LOCATION:Deaf and Hard of Hearing Center\, 5151 Mcardle Rd\, Corpus Christi\, TX\, United States
CATEGORIES:Corpus Christi
ATTACH;FMTTYPE=image/jpeg:https://deafhhcenter.org/wp-content/uploads/2025/02/SpringASL-01-01-scaled.jpg
END:VEVENT
BEGIN:VEVENT
DTSTART;TZID=UTC:20250308T100000
DTEND;TZID=UTC:20250308T130000
DTSTAMP:20260424T020447
CREATED:20250128T024501Z
LAST-MODIFIED:20250203T211700Z
UID:10000008-1741428000-1741438800@deafhhcenter.org
SUMMARY:VITA Free Tax Preparation
DESCRIPTION:
URL:https://deafhhcenter.org/event/vita-free-tax-preparation/
LOCATION:Deaf and Hard of Hearing Center\, 5151 Mcardle Rd\, Corpus Christi\, TX\, United States
CATEGORIES:Corpus Christi
ATTACH;FMTTYPE=image/jpeg:https://deafhhcenter.org/wp-content/uploads/2025/01/VITA2025-011-2-scaled.jpg
END:VEVENT
BEGIN:VEVENT
DTSTART;TZID=America/Chicago:20250301T180000
DTEND;TZID=America/Chicago:20250301T200000
DTSTAMP:20260424T020447
CREATED:20250211T151258Z
LAST-MODIFIED:20250211T151258Z
UID:10000087-1740852000-1740859200@deafhhcenter.org
SUMMARY:Mardi Gras Festival
DESCRIPTION:
URL:https://deafhhcenter.org/event/mardi-gras-festival/
LOCATION:Deaf and Hard of Hearing Center\, 5151 Mcardle Rd\, Corpus Christi\, TX\, United States
CATEGORIES:Corpus Christi
ATTACH;FMTTYPE=image/jpeg:https://deafhhcenter.org/wp-content/uploads/2025/02/MardiGrasEvent-01-scaled.jpg
END:VEVENT
BEGIN:VEVENT
DTSTART;TZID=America/Chicago:20250301T100000
DTEND;TZID=America/Chicago:20250301T123000
DTSTAMP:20260424T020447
CREATED:20250219T221324Z
LAST-MODIFIED:20250219T221324Z
UID:10000089-1740823200-1740832200@deafhhcenter.org
SUMMARY:The Journey of Women's Rights & Historical Movements
DESCRIPTION:
URL:https://deafhhcenter.org/event/the-journey-of-womens-rights-historical-movements/
LOCATION:Deaf and Hard of Hearing Center\, 5151 Mcardle Rd\, Corpus Christi\, TX\, United States
CATEGORIES:Corpus Christi
ATTACH;FMTTYPE=image/jpeg:https://deafhhcenter.org/wp-content/uploads/2025/02/Womens-Rights-and-Movements-1.jpeg
END:VEVENT
BEGIN:VEVENT
DTSTART;TZID=America/Chicago:20250222T090000
DTEND;TZID=America/Chicago:20250222T170000
DTSTAMP:20260424T020447
CREATED:20250211T195110Z
LAST-MODIFIED:20250211T211730Z
UID:10000088-1740214800-1740243600@deafhhcenter.org
SUMMARY:HELP WANTED: Calling for all Volunteers
DESCRIPTION:
URL:https://deafhhcenter.org/event/help-wanted-calling-for-all-volunteers/
LOCATION:Deaf and Hard of Hearing Center\, 5151 Mcardle Rd\, Corpus Christi\, TX\, United States
CATEGORIES:Corpus Christi
ATTACH;FMTTYPE=image/jpeg:https://deafhhcenter.org/wp-content/uploads/2025/02/PaintingHelp-01-1-scaled.jpg
END:VEVENT
BEGIN:VEVENT
DTSTART;TZID=UTC:20240912T173000
DTEND;TZID=UTC:20240912T190000
DTSTAMP:20260424T020447
CREATED:20240911T033442Z
LAST-MODIFIED:20240911T042125Z
UID:10000002-1726162200-1726167600@deafhhcenter.org
SUMMARY:ASL Bingo!
DESCRIPTION:Explore Deaf Culture and learn simple signs through\nASL Bingo!
URL:https://deafhhcenter.org/event/asl-bingo/
LOCATION:Deaf and Hard of Hearing Center\, 5151 Mcardle Rd\, Corpus Christi\, TX\, United States
CATEGORIES:Corpus Christi
ATTACH;FMTTYPE=image/jpeg:https://deafhhcenter.org/wp-content/uploads/2024/09/3700952778212467678.jpg
END:VEVENT
END:VCALENDAR