BEGIN:VCALENDAR
VERSION:2.0
PRODID:-//Deaf and Hard of Hearing Center - ECPv6.15.20//NONSGML v1.0//EN
CALSCALE:GREGORIAN
METHOD:PUBLISH
X-ORIGINAL-URL:https://deafhhcenter.org
X-WR-CALDESC:Events for Deaf and Hard of Hearing Center
REFRESH-INTERVAL;VALUE=DURATION:PT1H
X-Robots-Tag:noindex
X-PUBLISHED-TTL:PT1H
BEGIN:VTIMEZONE
TZID:America/Chicago
BEGIN:DAYLIGHT
TZOFFSETFROM:-0600
TZOFFSETTO:-0500
TZNAME:CDT
DTSTART:20240310T080000
END:DAYLIGHT
BEGIN:STANDARD
TZOFFSETFROM:-0500
TZOFFSETTO:-0600
TZNAME:CST
DTSTART:20241103T070000
END:STANDARD
BEGIN:DAYLIGHT
TZOFFSETFROM:-0600
TZOFFSETTO:-0500
TZNAME:CDT
DTSTART:20250309T080000
END:DAYLIGHT
BEGIN:STANDARD
TZOFFSETFROM:-0500
TZOFFSETTO:-0600
TZNAME:CST
DTSTART:20251102T070000
END:STANDARD
BEGIN:DAYLIGHT
TZOFFSETFROM:-0600
TZOFFSETTO:-0500
TZNAME:CDT
DTSTART:20260308T080000
END:DAYLIGHT
BEGIN:STANDARD
TZOFFSETFROM:-0500
TZOFFSETTO:-0600
TZNAME:CST
DTSTART:20261101T070000
END:STANDARD
END:VTIMEZONE
BEGIN:VEVENT
DTSTART;TZID=America/Chicago:20250716T183000
DTEND;TZID=America/Chicago:20250716T203000
DTSTAMP:20260423T172833
CREATED:20250502T175451Z
LAST-MODIFIED:20250502T175519Z
UID:10000825-1752690600-1752697800@deafhhcenter.org
SUMMARY:Conversational ASL III
DESCRIPTION:SIGN UP NOW
URL:https://deafhhcenter.org/event/conversational-asl-iii-2/2025-07-16/
LOCATION:Deaf and Hard of Hearing Center\, 5151 Mcardle Rd\, Corpus Christi\, TX\, United States
CATEGORIES:Corpus Christi
ATTACH;FMTTYPE=image/jpeg:https://deafhhcenter.org/wp-content/uploads/2025/05/SummerASLclasses-03-scaled.jpg
END:VEVENT
BEGIN:VEVENT
DTSTART;TZID=America/Chicago:20250715T183000
DTEND;TZID=America/Chicago:20250715T203000
DTSTAMP:20260423T172833
CREATED:20250502T175020Z
LAST-MODIFIED:20250502T175248Z
UID:10000817-1752604200-1752611400@deafhhcenter.org
SUMMARY:Conversational ASL II
DESCRIPTION:SIGN UP NOW
URL:https://deafhhcenter.org/event/conversational-asl-ii-2/2025-07-15/
LOCATION:Deaf and Hard of Hearing Center\, 5151 Mcardle Rd\, Corpus Christi\, TX\, United States
CATEGORIES:Corpus Christi
ATTACH;FMTTYPE=image/jpeg:https://deafhhcenter.org/wp-content/uploads/2025/05/SummerASLclasses-02-scaled.jpg
END:VEVENT
BEGIN:VEVENT
DTSTART;TZID=America/Chicago:20250714T183000
DTEND;TZID=America/Chicago:20250714T203000
DTSTAMP:20260423T172833
CREATED:20250502T164340Z
LAST-MODIFIED:20250502T165051Z
UID:10000802-1752517800-1752525000@deafhhcenter.org
SUMMARY:Conversational ASL I
DESCRIPTION:https://forms.office.com/r/41UjAV7aMP
URL:https://deafhhcenter.org/event/conversational-asl-i-2/2025-07-14/
LOCATION:Deaf and Hard of Hearing Center\, 5151 Mcardle Rd\, Corpus Christi\, TX\, United States
CATEGORIES:Corpus Christi
ATTACH;FMTTYPE=image/jpeg:https://deafhhcenter.org/wp-content/uploads/2025/05/SummerASLclasses-01-scaled.jpg
END:VEVENT
BEGIN:VEVENT
DTSTART;TZID=America/Chicago:20250712T110000
DTEND;TZID=America/Chicago:20250712T140000
DTSTAMP:20260423T172833
CREATED:20250617T200746Z
LAST-MODIFIED:20250617T200748Z
UID:10000834-1752318000-1752328800@deafhhcenter.org
SUMMARY:Family BBQ
DESCRIPTION:
URL:https://deafhhcenter.org/event/family-bbq/
LOCATION:Deaf and Hard of Hearing Center\, 5151 Mcardle Rd\, Corpus Christi\, TX\, United States
CATEGORIES:Corpus Christi
ATTACH;FMTTYPE=image/webp:https://deafhhcenter.org/wp-content/uploads/2025/06/BBQFamily-01-scaled.webp
END:VEVENT
BEGIN:VEVENT
DTSTART;TZID=America/Chicago:20250711T090000
DTEND;TZID=America/Chicago:20250711T150000
DTSTAMP:20260423T172833
CREATED:20250428T202955Z
LAST-MODIFIED:20250502T165908Z
UID:10000792-1752224400-1752246000@deafhhcenter.org
SUMMARY:Sign Camp for Kids
DESCRIPTION:Sign Camp for Kids is just around the corner!Join us Monday through Friday\, July 8–12\, from 9:00am to 3:00pm at the Deaf and Hard of Hearing Center. \nThis fun and engaging camp is a wonderful opportunity for kids to learn American Sign Language (ASL)\, make new friends\, and participate in a variety of educational and creative activities — all in a supportive environment. \nDon’t miss out!Register your child today by clicking the link below: \nhttps://forms.office.com/r/Xa9EU5ExX6
URL:https://deafhhcenter.org/event/sign-camp-for-kids-2/2025-07-11/
LOCATION:Deaf and Hard of Hearing Center\, 5151 Mcardle Rd\, Corpus Christi\, TX\, United States
CATEGORIES:Corpus Christi
ATTACH;FMTTYPE=image/jpeg:https://deafhhcenter.org/wp-content/uploads/2025/04/SignCampforKids25-01-scaled.jpg
END:VEVENT
BEGIN:VEVENT
DTSTART;TZID=America/Chicago:20250710T090000
DTEND;TZID=America/Chicago:20250710T150000
DTSTAMP:20260423T172833
CREATED:20250428T202955Z
LAST-MODIFIED:20250502T165908Z
UID:10000791-1752138000-1752159600@deafhhcenter.org
SUMMARY:Sign Camp for Kids
DESCRIPTION:Sign Camp for Kids is just around the corner!Join us Monday through Friday\, July 8–12\, from 9:00am to 3:00pm at the Deaf and Hard of Hearing Center. \nThis fun and engaging camp is a wonderful opportunity for kids to learn American Sign Language (ASL)\, make new friends\, and participate in a variety of educational and creative activities — all in a supportive environment. \nDon’t miss out!Register your child today by clicking the link below: \nhttps://forms.office.com/r/Xa9EU5ExX6
URL:https://deafhhcenter.org/event/sign-camp-for-kids-2/2025-07-10/
LOCATION:Deaf and Hard of Hearing Center\, 5151 Mcardle Rd\, Corpus Christi\, TX\, United States
CATEGORIES:Corpus Christi
ATTACH;FMTTYPE=image/jpeg:https://deafhhcenter.org/wp-content/uploads/2025/04/SignCampforKids25-01-scaled.jpg
END:VEVENT
BEGIN:VEVENT
DTSTART;TZID=America/Chicago:20250709T183000
DTEND;TZID=America/Chicago:20250709T203000
DTSTAMP:20260423T172833
CREATED:20250502T175451Z
LAST-MODIFIED:20250502T175519Z
UID:10000824-1752085800-1752093000@deafhhcenter.org
SUMMARY:Conversational ASL III
DESCRIPTION:SIGN UP NOW
URL:https://deafhhcenter.org/event/conversational-asl-iii-2/2025-07-09/
LOCATION:Deaf and Hard of Hearing Center\, 5151 Mcardle Rd\, Corpus Christi\, TX\, United States
CATEGORIES:Corpus Christi
ATTACH;FMTTYPE=image/jpeg:https://deafhhcenter.org/wp-content/uploads/2025/05/SummerASLclasses-03-scaled.jpg
END:VEVENT
BEGIN:VEVENT
DTSTART;TZID=America/Chicago:20250709T090000
DTEND;TZID=America/Chicago:20250709T150000
DTSTAMP:20260423T172833
CREATED:20250428T202955Z
LAST-MODIFIED:20250502T165908Z
UID:10000790-1752051600-1752073200@deafhhcenter.org
SUMMARY:Sign Camp for Kids
DESCRIPTION:Sign Camp for Kids is just around the corner!Join us Monday through Friday\, July 8–12\, from 9:00am to 3:00pm at the Deaf and Hard of Hearing Center. \nThis fun and engaging camp is a wonderful opportunity for kids to learn American Sign Language (ASL)\, make new friends\, and participate in a variety of educational and creative activities — all in a supportive environment. \nDon’t miss out!Register your child today by clicking the link below: \nhttps://forms.office.com/r/Xa9EU5ExX6
URL:https://deafhhcenter.org/event/sign-camp-for-kids-2/2025-07-09/
LOCATION:Deaf and Hard of Hearing Center\, 5151 Mcardle Rd\, Corpus Christi\, TX\, United States
CATEGORIES:Corpus Christi
ATTACH;FMTTYPE=image/jpeg:https://deafhhcenter.org/wp-content/uploads/2025/04/SignCampforKids25-01-scaled.jpg
END:VEVENT
BEGIN:VEVENT
DTSTART;TZID=America/Chicago:20250708T183000
DTEND;TZID=America/Chicago:20250708T203000
DTSTAMP:20260423T172833
CREATED:20250502T175020Z
LAST-MODIFIED:20250502T175248Z
UID:10000816-1751999400-1752006600@deafhhcenter.org
SUMMARY:Conversational ASL II
DESCRIPTION:SIGN UP NOW
URL:https://deafhhcenter.org/event/conversational-asl-ii-2/2025-07-08/
LOCATION:Deaf and Hard of Hearing Center\, 5151 Mcardle Rd\, Corpus Christi\, TX\, United States
CATEGORIES:Corpus Christi
ATTACH;FMTTYPE=image/jpeg:https://deafhhcenter.org/wp-content/uploads/2025/05/SummerASLclasses-02-scaled.jpg
END:VEVENT
BEGIN:VEVENT
DTSTART;TZID=America/Chicago:20250708T090000
DTEND;TZID=America/Chicago:20250708T150000
DTSTAMP:20260423T172833
CREATED:20250428T202955Z
LAST-MODIFIED:20250502T165908Z
UID:10000789-1751965200-1751986800@deafhhcenter.org
SUMMARY:Sign Camp for Kids
DESCRIPTION:Sign Camp for Kids is just around the corner!Join us Monday through Friday\, July 8–12\, from 9:00am to 3:00pm at the Deaf and Hard of Hearing Center. \nThis fun and engaging camp is a wonderful opportunity for kids to learn American Sign Language (ASL)\, make new friends\, and participate in a variety of educational and creative activities — all in a supportive environment. \nDon’t miss out!Register your child today by clicking the link below: \nhttps://forms.office.com/r/Xa9EU5ExX6
URL:https://deafhhcenter.org/event/sign-camp-for-kids-2/2025-07-08/
LOCATION:Deaf and Hard of Hearing Center\, 5151 Mcardle Rd\, Corpus Christi\, TX\, United States
CATEGORIES:Corpus Christi
ATTACH;FMTTYPE=image/jpeg:https://deafhhcenter.org/wp-content/uploads/2025/04/SignCampforKids25-01-scaled.jpg
END:VEVENT
BEGIN:VEVENT
DTSTART;TZID=America/Chicago:20250707T183000
DTEND;TZID=America/Chicago:20250707T203000
DTSTAMP:20260423T172833
CREATED:20250502T164340Z
LAST-MODIFIED:20250502T165051Z
UID:10000801-1751913000-1751920200@deafhhcenter.org
SUMMARY:Conversational ASL I
DESCRIPTION:https://forms.office.com/r/41UjAV7aMP
URL:https://deafhhcenter.org/event/conversational-asl-i-2/2025-07-07/
LOCATION:Deaf and Hard of Hearing Center\, 5151 Mcardle Rd\, Corpus Christi\, TX\, United States
CATEGORIES:Corpus Christi
ATTACH;FMTTYPE=image/jpeg:https://deafhhcenter.org/wp-content/uploads/2025/05/SummerASLclasses-01-scaled.jpg
END:VEVENT
BEGIN:VEVENT
DTSTART;TZID=America/Chicago:20250707T090000
DTEND;TZID=America/Chicago:20250707T150000
DTSTAMP:20260423T172833
CREATED:20250428T202955Z
LAST-MODIFIED:20250502T165908Z
UID:10000804-1751878800-1751900400@deafhhcenter.org
SUMMARY:Sign Camp for Kids
DESCRIPTION:Sign Camp for Kids is just around the corner!Join us Monday through Friday\, July 8–12\, from 9:00am to 3:00pm at the Deaf and Hard of Hearing Center. \nThis fun and engaging camp is a wonderful opportunity for kids to learn American Sign Language (ASL)\, make new friends\, and participate in a variety of educational and creative activities — all in a supportive environment. \nDon’t miss out!Register your child today by clicking the link below: \nhttps://forms.office.com/r/Xa9EU5ExX6
URL:https://deafhhcenter.org/event/sign-camp-for-kids-2/2025-07-07/
LOCATION:Deaf and Hard of Hearing Center\, 5151 Mcardle Rd\, Corpus Christi\, TX\, United States
CATEGORIES:Corpus Christi
ATTACH;FMTTYPE=image/jpeg:https://deafhhcenter.org/wp-content/uploads/2025/04/SignCampforKids25-01-scaled.jpg
END:VEVENT
BEGIN:VEVENT
DTSTART;TZID=America/Chicago:20250702T183000
DTEND;TZID=America/Chicago:20250702T203000
DTSTAMP:20260423T172833
CREATED:20250502T175451Z
LAST-MODIFIED:20250502T175519Z
UID:10000823-1751481000-1751488200@deafhhcenter.org
SUMMARY:Conversational ASL III
DESCRIPTION:SIGN UP NOW
URL:https://deafhhcenter.org/event/conversational-asl-iii-2/2025-07-02/
LOCATION:Deaf and Hard of Hearing Center\, 5151 Mcardle Rd\, Corpus Christi\, TX\, United States
CATEGORIES:Corpus Christi
ATTACH;FMTTYPE=image/jpeg:https://deafhhcenter.org/wp-content/uploads/2025/05/SummerASLclasses-03-scaled.jpg
END:VEVENT
BEGIN:VEVENT
DTSTART;TZID=America/Chicago:20250701T183000
DTEND;TZID=America/Chicago:20250701T203000
DTSTAMP:20260423T172833
CREATED:20250502T175020Z
LAST-MODIFIED:20250502T175248Z
UID:10000815-1751394600-1751401800@deafhhcenter.org
SUMMARY:Conversational ASL II
DESCRIPTION:SIGN UP NOW
URL:https://deafhhcenter.org/event/conversational-asl-ii-2/2025-07-01/
LOCATION:Deaf and Hard of Hearing Center\, 5151 Mcardle Rd\, Corpus Christi\, TX\, United States
CATEGORIES:Corpus Christi
ATTACH;FMTTYPE=image/jpeg:https://deafhhcenter.org/wp-content/uploads/2025/05/SummerASLclasses-02-scaled.jpg
END:VEVENT
BEGIN:VEVENT
DTSTART;TZID=America/Chicago:20250630T183000
DTEND;TZID=America/Chicago:20250630T203000
DTSTAMP:20260423T172833
CREATED:20250502T164340Z
LAST-MODIFIED:20250502T165051Z
UID:10000800-1751308200-1751315400@deafhhcenter.org
SUMMARY:Conversational ASL I
DESCRIPTION:https://forms.office.com/r/41UjAV7aMP
URL:https://deafhhcenter.org/event/conversational-asl-i-2/2025-06-30/
LOCATION:Deaf and Hard of Hearing Center\, 5151 Mcardle Rd\, Corpus Christi\, TX\, United States
CATEGORIES:Corpus Christi
ATTACH;FMTTYPE=image/jpeg:https://deafhhcenter.org/wp-content/uploads/2025/05/SummerASLclasses-01-scaled.jpg
END:VEVENT
BEGIN:VEVENT
DTSTART;TZID=America/Chicago:20250627T070000
DTEND;TZID=America/Chicago:20250627T200000
DTSTAMP:20260423T172833
CREATED:20250409T175859Z
LAST-MODIFIED:20250502T174542Z
UID:10000417-1751007600-1751054400@deafhhcenter.org
SUMMARY:Summer Voyage 2025
DESCRIPTION:San Antonio Trip \nHopscotch Immersive Art Exhibits & LiggettVille Adventure Center \nSign up NOW
URL:https://deafhhcenter.org/event/summer-voyage-2025-3/
LOCATION:Deaf and Hard of Hearing Center\, 5151 Mcardle Rd\, Corpus Christi\, TX\, United States
CATEGORIES:Corpus Christi,Rio Grande Valley
ATTACH;FMTTYPE=image/jpeg:https://deafhhcenter.org/wp-content/uploads/2025/04/SummerVoyage25-01-1-scaled.jpg
END:VEVENT
BEGIN:VEVENT
DTSTART;TZID=America/Chicago:20250625T183000
DTEND;TZID=America/Chicago:20250625T203000
DTSTAMP:20260423T172833
CREATED:20250502T175451Z
LAST-MODIFIED:20250502T175519Z
UID:10000822-1750876200-1750883400@deafhhcenter.org
SUMMARY:Conversational ASL III
DESCRIPTION:SIGN UP NOW
URL:https://deafhhcenter.org/event/conversational-asl-iii-2/2025-06-25/
LOCATION:Deaf and Hard of Hearing Center\, 5151 Mcardle Rd\, Corpus Christi\, TX\, United States
CATEGORIES:Corpus Christi
ATTACH;FMTTYPE=image/jpeg:https://deafhhcenter.org/wp-content/uploads/2025/05/SummerASLclasses-03-scaled.jpg
END:VEVENT
BEGIN:VEVENT
DTSTART;TZID=America/Chicago:20250624T183000
DTEND;TZID=America/Chicago:20250624T203000
DTSTAMP:20260423T172833
CREATED:20250502T175020Z
LAST-MODIFIED:20250502T175248Z
UID:10000814-1750789800-1750797000@deafhhcenter.org
SUMMARY:Conversational ASL II
DESCRIPTION:SIGN UP NOW
URL:https://deafhhcenter.org/event/conversational-asl-ii-2/2025-06-24/
LOCATION:Deaf and Hard of Hearing Center\, 5151 Mcardle Rd\, Corpus Christi\, TX\, United States
CATEGORIES:Corpus Christi
ATTACH;FMTTYPE=image/jpeg:https://deafhhcenter.org/wp-content/uploads/2025/05/SummerASLclasses-02-scaled.jpg
END:VEVENT
BEGIN:VEVENT
DTSTART;TZID=America/Chicago:20250623T183000
DTEND;TZID=America/Chicago:20250623T203000
DTSTAMP:20260423T172833
CREATED:20250502T164340Z
LAST-MODIFIED:20250502T165051Z
UID:10000799-1750703400-1750710600@deafhhcenter.org
SUMMARY:Conversational ASL I
DESCRIPTION:https://forms.office.com/r/41UjAV7aMP
URL:https://deafhhcenter.org/event/conversational-asl-i-2/2025-06-23/
LOCATION:Deaf and Hard of Hearing Center\, 5151 Mcardle Rd\, Corpus Christi\, TX\, United States
CATEGORIES:Corpus Christi
ATTACH;FMTTYPE=image/jpeg:https://deafhhcenter.org/wp-content/uploads/2025/05/SummerASLclasses-01-scaled.jpg
END:VEVENT
BEGIN:VEVENT
DTSTART;TZID=America/Chicago:20250621T130000
DTEND;TZID=America/Chicago:20250621T173000
DTSTAMP:20260423T172833
CREATED:20250522T155446Z
LAST-MODIFIED:20250522T162927Z
UID:10000833-1750510800-1750527000@deafhhcenter.org
SUMMARY:Save the Date: Emergency Preparedness Workshop - Rio Grande Valley
DESCRIPTION:For more information: \nFelicia Cuellar\nText: (361)593-6873\nVideophone: (956)402-3132\nEmail: fcuellar@deafhhcenter.org \nWorkshop Location: TBA \nDonation Needed!
URL:https://deafhhcenter.org/event/save-the-date-emergency-preparedness-workshop-rio-grande-valley/
CATEGORIES:Corpus Christi,Rio Grande Valley
ATTACH;FMTTYPE=image/webp:https://deafhhcenter.org/wp-content/uploads/2025/05/4.webp
END:VEVENT
BEGIN:VEVENT
DTSTART;TZID=America/Chicago:20250620T090000
DTEND;TZID=America/Chicago:20250620T140000
DTSTAMP:20260423T172833
CREATED:20250409T175759Z
LAST-MODIFIED:20250502T175645Z
UID:10000416-1750410000-1750428000@deafhhcenter.org
SUMMARY:Summer Voyage 2025
DESCRIPTION:Corpus Christi Cooking Club- Recreate Chick-fil-A Menu \nSign up NOW
URL:https://deafhhcenter.org/event/summer-voyage-2025-2/
CATEGORIES:Corpus Christi,Rio Grande Valley
ATTACH;FMTTYPE=image/jpeg:https://deafhhcenter.org/wp-content/uploads/2025/04/SummerVoyage25-01-1-scaled.jpg
END:VEVENT
BEGIN:VEVENT
DTSTART;TZID=America/Chicago:20250618T183000
DTEND;TZID=America/Chicago:20250618T203000
DTSTAMP:20260423T172833
CREATED:20250502T175451Z
LAST-MODIFIED:20250502T175519Z
UID:10000821-1750271400-1750278600@deafhhcenter.org
SUMMARY:Conversational ASL III
DESCRIPTION:SIGN UP NOW
URL:https://deafhhcenter.org/event/conversational-asl-iii-2/2025-06-18/
LOCATION:Deaf and Hard of Hearing Center\, 5151 Mcardle Rd\, Corpus Christi\, TX\, United States
CATEGORIES:Corpus Christi
ATTACH;FMTTYPE=image/jpeg:https://deafhhcenter.org/wp-content/uploads/2025/05/SummerASLclasses-03-scaled.jpg
END:VEVENT
BEGIN:VEVENT
DTSTART;TZID=America/Chicago:20250617T183000
DTEND;TZID=America/Chicago:20250617T203000
DTSTAMP:20260423T172833
CREATED:20250502T175020Z
LAST-MODIFIED:20250502T175248Z
UID:10000813-1750185000-1750192200@deafhhcenter.org
SUMMARY:Conversational ASL II
DESCRIPTION:SIGN UP NOW
URL:https://deafhhcenter.org/event/conversational-asl-ii-2/2025-06-17/
LOCATION:Deaf and Hard of Hearing Center\, 5151 Mcardle Rd\, Corpus Christi\, TX\, United States
CATEGORIES:Corpus Christi
ATTACH;FMTTYPE=image/jpeg:https://deafhhcenter.org/wp-content/uploads/2025/05/SummerASLclasses-02-scaled.jpg
END:VEVENT
BEGIN:VEVENT
DTSTART;TZID=America/Chicago:20250616T183000
DTEND;TZID=America/Chicago:20250616T203000
DTSTAMP:20260423T172833
CREATED:20250502T164340Z
LAST-MODIFIED:20250502T165051Z
UID:10000798-1750098600-1750105800@deafhhcenter.org
SUMMARY:Conversational ASL I
DESCRIPTION:https://forms.office.com/r/41UjAV7aMP
URL:https://deafhhcenter.org/event/conversational-asl-i-2/2025-06-16/
LOCATION:Deaf and Hard of Hearing Center\, 5151 Mcardle Rd\, Corpus Christi\, TX\, United States
CATEGORIES:Corpus Christi
ATTACH;FMTTYPE=image/jpeg:https://deafhhcenter.org/wp-content/uploads/2025/05/SummerASLclasses-01-scaled.jpg
END:VEVENT
BEGIN:VEVENT
DTSTART;TZID=America/Chicago:20250614T130000
DTEND;TZID=America/Chicago:20250614T173000
DTSTAMP:20260423T172833
CREATED:20250522T155001Z
LAST-MODIFIED:20250522T162708Z
UID:10000832-1749906000-1749922200@deafhhcenter.org
SUMMARY:Save the Date: Emergency Preparedness Workshop - Corpus Christi
DESCRIPTION:For more information: \nAliza Long\nCall/Text: (361)593-6878\nVideophone: (361)356-4726\nEmail: along@deafhhcenter.org \nWorkshop Location: TBA \nDonation Needed! \n \n\n 
URL:https://deafhhcenter.org/event/save-the-date-emergency-preparedness-workshop-corpus-christi/
CATEGORIES:Corpus Christi
ATTACH;FMTTYPE=image/webp:https://deafhhcenter.org/wp-content/uploads/2025/05/1.webp
END:VEVENT
BEGIN:VEVENT
DTSTART;TZID=America/Chicago:20250613T090000
DTEND;TZID=America/Chicago:20250613T170000
DTSTAMP:20260423T172833
CREATED:20250409T175716Z
LAST-MODIFIED:20250502T174608Z
UID:10000415-1749805200-1749834000@deafhhcenter.org
SUMMARY:Summer Voyage 2025
DESCRIPTION:Splash All-Day \nSign up NOW
URL:https://deafhhcenter.org/event/summer-voyage-2025/
CATEGORIES:Corpus Christi,Rio Grande Valley
ATTACH;FMTTYPE=image/jpeg:https://deafhhcenter.org/wp-content/uploads/2025/04/SummerVoyage25-01-1-scaled.jpg
END:VEVENT
BEGIN:VEVENT
DTSTART;TZID=America/Chicago:20250611T183000
DTEND;TZID=America/Chicago:20250611T203000
DTSTAMP:20260423T172833
CREATED:20250502T175451Z
LAST-MODIFIED:20250502T175519Z
UID:10000820-1749666600-1749673800@deafhhcenter.org
SUMMARY:Conversational ASL III
DESCRIPTION:SIGN UP NOW
URL:https://deafhhcenter.org/event/conversational-asl-iii-2/2025-06-11/
LOCATION:Deaf and Hard of Hearing Center\, 5151 Mcardle Rd\, Corpus Christi\, TX\, United States
CATEGORIES:Corpus Christi
ATTACH;FMTTYPE=image/jpeg:https://deafhhcenter.org/wp-content/uploads/2025/05/SummerASLclasses-03-scaled.jpg
END:VEVENT
BEGIN:VEVENT
DTSTART;TZID=America/Chicago:20250610T183000
DTEND;TZID=America/Chicago:20250610T203000
DTSTAMP:20260423T172833
CREATED:20250502T175020Z
LAST-MODIFIED:20250502T175248Z
UID:10000812-1749580200-1749587400@deafhhcenter.org
SUMMARY:Conversational ASL II
DESCRIPTION:SIGN UP NOW
URL:https://deafhhcenter.org/event/conversational-asl-ii-2/2025-06-10/
LOCATION:Deaf and Hard of Hearing Center\, 5151 Mcardle Rd\, Corpus Christi\, TX\, United States
CATEGORIES:Corpus Christi
ATTACH;FMTTYPE=image/jpeg:https://deafhhcenter.org/wp-content/uploads/2025/05/SummerASLclasses-02-scaled.jpg
END:VEVENT
BEGIN:VEVENT
DTSTART;TZID=America/Chicago:20250609T183000
DTEND;TZID=America/Chicago:20250609T203000
DTSTAMP:20260423T172833
CREATED:20250502T164340Z
LAST-MODIFIED:20250502T165051Z
UID:10000797-1749493800-1749501000@deafhhcenter.org
SUMMARY:Conversational ASL I
DESCRIPTION:https://forms.office.com/r/41UjAV7aMP
URL:https://deafhhcenter.org/event/conversational-asl-i-2/2025-06-09/
LOCATION:Deaf and Hard of Hearing Center\, 5151 Mcardle Rd\, Corpus Christi\, TX\, United States
CATEGORIES:Corpus Christi
ATTACH;FMTTYPE=image/jpeg:https://deafhhcenter.org/wp-content/uploads/2025/05/SummerASLclasses-01-scaled.jpg
END:VEVENT
BEGIN:VEVENT
DTSTART;TZID=America/Chicago:20250604T183000
DTEND;TZID=America/Chicago:20250604T203000
DTSTAMP:20260423T172833
CREATED:20250502T175451Z
LAST-MODIFIED:20250502T175519Z
UID:10000819-1749061800-1749069000@deafhhcenter.org
SUMMARY:Conversational ASL III
DESCRIPTION:SIGN UP NOW
URL:https://deafhhcenter.org/event/conversational-asl-iii-2/2025-06-04/
LOCATION:Deaf and Hard of Hearing Center\, 5151 Mcardle Rd\, Corpus Christi\, TX\, United States
CATEGORIES:Corpus Christi
ATTACH;FMTTYPE=image/jpeg:https://deafhhcenter.org/wp-content/uploads/2025/05/SummerASLclasses-03-scaled.jpg
END:VEVENT
END:VCALENDAR