BEGIN:VCALENDAR
VERSION:2.0
PRODID:-//Deaf and Hard of Hearing Center - ECPv6.15.20//NONSGML v1.0//EN
CALSCALE:GREGORIAN
METHOD:PUBLISH
X-ORIGINAL-URL:https://deafhhcenter.org
X-WR-CALDESC:Events for Deaf and Hard of Hearing Center
REFRESH-INTERVAL;VALUE=DURATION:PT1H
X-Robots-Tag:noindex
X-PUBLISHED-TTL:PT1H
BEGIN:VTIMEZONE
TZID:America/Chicago
BEGIN:DAYLIGHT
TZOFFSETFROM:-0600
TZOFFSETTO:-0500
TZNAME:CDT
DTSTART:20240310T080000
END:DAYLIGHT
BEGIN:STANDARD
TZOFFSETFROM:-0500
TZOFFSETTO:-0600
TZNAME:CST
DTSTART:20241103T070000
END:STANDARD
BEGIN:DAYLIGHT
TZOFFSETFROM:-0600
TZOFFSETTO:-0500
TZNAME:CDT
DTSTART:20250309T080000
END:DAYLIGHT
BEGIN:STANDARD
TZOFFSETFROM:-0500
TZOFFSETTO:-0600
TZNAME:CST
DTSTART:20251102T070000
END:STANDARD
BEGIN:DAYLIGHT
TZOFFSETFROM:-0600
TZOFFSETTO:-0500
TZNAME:CDT
DTSTART:20260308T080000
END:DAYLIGHT
BEGIN:STANDARD
TZOFFSETFROM:-0500
TZOFFSETTO:-0600
TZNAME:CST
DTSTART:20261101T070000
END:STANDARD
END:VTIMEZONE
BEGIN:VEVENT
DTSTART;TZID=America/Chicago:20250915T183000
DTEND;TZID=America/Chicago:20250915T203000
DTSTAMP:20260423T142738
CREATED:20250804T194817Z
LAST-MODIFIED:20250804T201236Z
UID:10000840-1757961000-1757968200@deafhhcenter.org
SUMMARY:Conversational ASL I
DESCRIPTION:Register NOW
URL:https://deafhhcenter.org/event/conversational-asl-i-3/2025-09-15/
LOCATION:Deaf and Hard of Hearing Center\, 5151 Mcardle Rd\, Corpus Christi\, TX\, United States
CATEGORIES:Corpus Christi
ATTACH;FMTTYPE=image/webp:https://deafhhcenter.org/wp-content/uploads/2025/08/FAllASLclasses-01-scaled.webp
END:VEVENT
BEGIN:VEVENT
DTSTART;TZID=America/Chicago:20250915T170000
DTEND;TZID=America/Chicago:20250915T200000
DTSTAMP:20260423T142738
CREATED:20250508T193259Z
LAST-MODIFIED:20250508T193323Z
UID:10000827-1757955600-1757966400@deafhhcenter.org
SUMMARY:Panjo's Pizza
DESCRIPTION:
URL:https://deafhhcenter.org/event/panjos-pizza/
LOCATION:Panjo’s Pizza\, 1320 Airline Road\, Corpus Christi\, 78412\, United States
CATEGORIES:Corpus Christi
ATTACH;FMTTYPE=image/webp:https://deafhhcenter.org/wp-content/uploads/2025/05/PanjoPizza-01-scaled.webp
END:VEVENT
BEGIN:VEVENT
DTSTART;TZID=America/Chicago:20250913T130000
DTEND;TZID=America/Chicago:20250913T170000
DTSTAMP:20260423T142738
CREATED:20250428T210646Z
LAST-MODIFIED:20250502T165403Z
UID:10000794-1757768400-1757782800@deafhhcenter.org
SUMMARY:South Texas Craft Show
DESCRIPTION:Get ready for a one-of-a-kind experience at the South Texas Craft Show\, where creativity meets community! \nWe invite you to come and explore a wide range of unique artworks and handmade products proudly crafted by talented Deaf business owners. Our vendors will be showcasing an amazing variety of items\, including clothing\, jewelry\, home décor\, wellness products\, and much more! Whether you’re shopping for your new home\, birthday gifts\, or just looking for something special to give to a loved one\, you’ll find something truly meaningful and one-of-a-kind at our event. Please support local Deaf artists and entrepreneurs. Every purchase you make helps support small businesses and celebrates the incredible talents within our community. \nDon’t miss out — come and check out the vendors\, find beautiful treasures\, and enjoy a wonderful day at the South Texas Craft Show! \nAre you a Deaf or Hard of Hearing business owner interested in becoming a vendor?We would love to have you join us! Please register via link: https://forms.office.com/r/6B9ENdf2s4
URL:https://deafhhcenter.org/event/south-texas-craft-show/
LOCATION:Deaf and Hard of Hearing Center\, 5151 Mcardle Rd\, Corpus Christi\, TX\, United States
CATEGORIES:Corpus Christi
ATTACH;FMTTYPE=image/jpeg:https://deafhhcenter.org/wp-content/uploads/2025/04/CraftShow2025-01-scaled.jpg
END:VEVENT
BEGIN:VEVENT
DTSTART;TZID=America/Chicago:20250910T080000
DTEND;TZID=America/Chicago:20250910T170000
DTSTAMP:20260423T142738
CREATED:20250804T201615Z
LAST-MODIFIED:20250804T201617Z
UID:10000855-1757491200-1757523600@deafhhcenter.org
SUMMARY:Conversational ASL III
DESCRIPTION:Register NOW
URL:https://deafhhcenter.org/event/conversational-asl-iii-3/2025-09-10/
LOCATION:Deaf and Hard of Hearing Center\, 5151 Mcardle Rd\, Corpus Christi\, TX\, United States
CATEGORIES:Corpus Christi
ATTACH;FMTTYPE=image/webp:https://deafhhcenter.org/wp-content/uploads/2025/08/FAllASLclasses-03-scaled.webp
END:VEVENT
BEGIN:VEVENT
DTSTART;TZID=America/Chicago:20250909T183000
DTEND;TZID=America/Chicago:20250909T203000
DTSTAMP:20260423T142738
CREATED:20250804T200822Z
LAST-MODIFIED:20250804T200824Z
UID:10000847-1757442600-1757449800@deafhhcenter.org
SUMMARY:Coversatinal ASL II
DESCRIPTION:Register NOW
URL:https://deafhhcenter.org/event/coversatinal-asl-ii/2025-09-09/
LOCATION:Deaf and Hard of Hearing Center\, 5151 Mcardle Rd\, Corpus Christi\, TX\, United States
CATEGORIES:Corpus Christi
ATTACH;FMTTYPE=image/webp:https://deafhhcenter.org/wp-content/uploads/2025/08/FAllASLclasses-02-scaled.webp
END:VEVENT
BEGIN:VEVENT
DTSTART;TZID=America/Chicago:20250908T183000
DTEND;TZID=America/Chicago:20250908T203000
DTSTAMP:20260423T142738
CREATED:20250804T194817Z
LAST-MODIFIED:20250804T201236Z
UID:10000839-1757356200-1757363400@deafhhcenter.org
SUMMARY:Conversational ASL I
DESCRIPTION:Register NOW
URL:https://deafhhcenter.org/event/conversational-asl-i-3/2025-09-08/
LOCATION:Deaf and Hard of Hearing Center\, 5151 Mcardle Rd\, Corpus Christi\, TX\, United States
CATEGORIES:Corpus Christi
ATTACH;FMTTYPE=image/webp:https://deafhhcenter.org/wp-content/uploads/2025/08/FAllASLclasses-01-scaled.webp
END:VEVENT
BEGIN:VEVENT
DTSTART;TZID=America/Chicago:20250903T080000
DTEND;TZID=America/Chicago:20250903T170000
DTSTAMP:20260423T142738
CREATED:20250804T201615Z
LAST-MODIFIED:20250804T201617Z
UID:10000854-1756886400-1756918800@deafhhcenter.org
SUMMARY:Conversational ASL III
DESCRIPTION:Register NOW
URL:https://deafhhcenter.org/event/conversational-asl-iii-3/2025-09-03/
LOCATION:Deaf and Hard of Hearing Center\, 5151 Mcardle Rd\, Corpus Christi\, TX\, United States
CATEGORIES:Corpus Christi
ATTACH;FMTTYPE=image/webp:https://deafhhcenter.org/wp-content/uploads/2025/08/FAllASLclasses-03-scaled.webp
END:VEVENT
BEGIN:VEVENT
DTSTART;TZID=America/Chicago:20250902T183000
DTEND;TZID=America/Chicago:20250902T203000
DTSTAMP:20260423T142738
CREATED:20250804T200822Z
LAST-MODIFIED:20250804T200824Z
UID:10000846-1756837800-1756845000@deafhhcenter.org
SUMMARY:Coversatinal ASL II
DESCRIPTION:Register NOW
URL:https://deafhhcenter.org/event/coversatinal-asl-ii/2025-09-02/
LOCATION:Deaf and Hard of Hearing Center\, 5151 Mcardle Rd\, Corpus Christi\, TX\, United States
CATEGORIES:Corpus Christi
ATTACH;FMTTYPE=image/webp:https://deafhhcenter.org/wp-content/uploads/2025/08/FAllASLclasses-02-scaled.webp
END:VEVENT
BEGIN:VEVENT
DTSTART;TZID=America/Chicago:20250901T183000
DTEND;TZID=America/Chicago:20250901T203000
DTSTAMP:20260423T142738
CREATED:20250804T194817Z
LAST-MODIFIED:20250804T201236Z
UID:10000838-1756751400-1756758600@deafhhcenter.org
SUMMARY:Conversational ASL I
DESCRIPTION:Register NOW
URL:https://deafhhcenter.org/event/conversational-asl-i-3/2025-09-01/
LOCATION:Deaf and Hard of Hearing Center\, 5151 Mcardle Rd\, Corpus Christi\, TX\, United States
CATEGORIES:Corpus Christi
ATTACH;FMTTYPE=image/webp:https://deafhhcenter.org/wp-content/uploads/2025/08/FAllASLclasses-01-scaled.webp
END:VEVENT
BEGIN:VEVENT
DTSTART;TZID=America/Chicago:20250827T080000
DTEND;TZID=America/Chicago:20250827T170000
DTSTAMP:20260423T142738
CREATED:20250804T201615Z
LAST-MODIFIED:20250804T201617Z
UID:10000853-1756281600-1756314000@deafhhcenter.org
SUMMARY:Conversational ASL III
DESCRIPTION:Register NOW
URL:https://deafhhcenter.org/event/conversational-asl-iii-3/2025-08-27/
LOCATION:Deaf and Hard of Hearing Center\, 5151 Mcardle Rd\, Corpus Christi\, TX\, United States
CATEGORIES:Corpus Christi
ATTACH;FMTTYPE=image/webp:https://deafhhcenter.org/wp-content/uploads/2025/08/FAllASLclasses-03-scaled.webp
END:VEVENT
BEGIN:VEVENT
DTSTART;TZID=America/Chicago:20250826T183000
DTEND;TZID=America/Chicago:20250826T203000
DTSTAMP:20260423T142738
CREATED:20250804T200822Z
LAST-MODIFIED:20250804T200824Z
UID:10000845-1756233000-1756240200@deafhhcenter.org
SUMMARY:Coversatinal ASL II
DESCRIPTION:Register NOW
URL:https://deafhhcenter.org/event/coversatinal-asl-ii/2025-08-26/
LOCATION:Deaf and Hard of Hearing Center\, 5151 Mcardle Rd\, Corpus Christi\, TX\, United States
CATEGORIES:Corpus Christi
ATTACH;FMTTYPE=image/webp:https://deafhhcenter.org/wp-content/uploads/2025/08/FAllASLclasses-02-scaled.webp
END:VEVENT
BEGIN:VEVENT
DTSTART;TZID=America/Chicago:20250825T183000
DTEND;TZID=America/Chicago:20250825T203000
DTSTAMP:20260423T142738
CREATED:20250804T194817Z
LAST-MODIFIED:20250804T201236Z
UID:10000837-1756146600-1756153800@deafhhcenter.org
SUMMARY:Conversational ASL I
DESCRIPTION:Register NOW
URL:https://deafhhcenter.org/event/conversational-asl-i-3/2025-08-25/
LOCATION:Deaf and Hard of Hearing Center\, 5151 Mcardle Rd\, Corpus Christi\, TX\, United States
CATEGORIES:Corpus Christi
ATTACH;FMTTYPE=image/webp:https://deafhhcenter.org/wp-content/uploads/2025/08/FAllASLclasses-01-scaled.webp
END:VEVENT
BEGIN:VEVENT
DTSTART;TZID=America/Chicago:20250823T070000
DTEND;TZID=America/Chicago:20250823T110000
DTSTAMP:20260423T142738
CREATED:20250617T201814Z
LAST-MODIFIED:20250812T163400Z
UID:10000835-1755932400-1755946800@deafhhcenter.org
SUMMARY:Rummage Sale
DESCRIPTION:SIGN UP TO RESERVE YOUR SPOT!
URL:https://deafhhcenter.org/event/summage-sale/
LOCATION:Deaf and Hard of Hearing Center\, 5151 Mcardle Rd\, Corpus Christi\, TX\, United States
ATTACH;FMTTYPE=image/webp:https://deafhhcenter.org/wp-content/uploads/2025/06/RummageSale-01-scaled.webp
END:VEVENT
BEGIN:VEVENT
DTSTART;TZID=America/Chicago:20250820T080000
DTEND;TZID=America/Chicago:20250820T170000
DTSTAMP:20260423T142738
CREATED:20250804T201615Z
LAST-MODIFIED:20250804T201617Z
UID:10000852-1755676800-1755709200@deafhhcenter.org
SUMMARY:Conversational ASL III
DESCRIPTION:Register NOW
URL:https://deafhhcenter.org/event/conversational-asl-iii-3/2025-08-20/
LOCATION:Deaf and Hard of Hearing Center\, 5151 Mcardle Rd\, Corpus Christi\, TX\, United States
CATEGORIES:Corpus Christi
ATTACH;FMTTYPE=image/webp:https://deafhhcenter.org/wp-content/uploads/2025/08/FAllASLclasses-03-scaled.webp
END:VEVENT
BEGIN:VEVENT
DTSTART;TZID=America/Chicago:20250819T183000
DTEND;TZID=America/Chicago:20250819T203000
DTSTAMP:20260423T142738
CREATED:20250804T200822Z
LAST-MODIFIED:20250804T200824Z
UID:10000844-1755628200-1755635400@deafhhcenter.org
SUMMARY:Coversatinal ASL II
DESCRIPTION:Register NOW
URL:https://deafhhcenter.org/event/coversatinal-asl-ii/2025-08-19/
LOCATION:Deaf and Hard of Hearing Center\, 5151 Mcardle Rd\, Corpus Christi\, TX\, United States
CATEGORIES:Corpus Christi
ATTACH;FMTTYPE=image/webp:https://deafhhcenter.org/wp-content/uploads/2025/08/FAllASLclasses-02-scaled.webp
END:VEVENT
BEGIN:VEVENT
DTSTART;TZID=America/Chicago:20250818T183000
DTEND;TZID=America/Chicago:20250818T203000
DTSTAMP:20260423T142738
CREATED:20250804T194817Z
LAST-MODIFIED:20250804T201236Z
UID:10000836-1755541800-1755549000@deafhhcenter.org
SUMMARY:Conversational ASL I
DESCRIPTION:Register NOW
URL:https://deafhhcenter.org/event/conversational-asl-i-3/2025-08-18/
LOCATION:Deaf and Hard of Hearing Center\, 5151 Mcardle Rd\, Corpus Christi\, TX\, United States
CATEGORIES:Corpus Christi
ATTACH;FMTTYPE=image/webp:https://deafhhcenter.org/wp-content/uploads/2025/08/FAllASLclasses-01-scaled.webp
END:VEVENT
BEGIN:VEVENT
DTSTART;TZID=America/Chicago:20250816T090000
DTEND;TZID=America/Chicago:20250816T113000
DTSTAMP:20260423T142738
CREATED:20250812T164040Z
LAST-MODIFIED:20250812T164042Z
UID:10000860-1755334800-1755343800@deafhhcenter.org
SUMMARY:Early Gains: Family Playgroup
DESCRIPTION:
URL:https://deafhhcenter.org/event/early-gains-family-playgroup/
LOCATION:Deaf and Hard of Hearing Center\, 5151 Mcardle Rd\, Corpus Christi\, TX\, United States
CATEGORIES:Corpus Christi
ATTACH;FMTTYPE=image/webp:https://deafhhcenter.org/wp-content/uploads/2025/08/01.webp
END:VEVENT
BEGIN:VEVENT
DTSTART;TZID=America/Chicago:20250802T130000
DTEND;TZID=America/Chicago:20250802T150000
DTSTAMP:20260423T142738
CREATED:20250508T194524Z
LAST-MODIFIED:20250508T194548Z
UID:10000828-1754139600-1754146800@deafhhcenter.org
SUMMARY:4th Annual Back to School and Ice Cream Bar
DESCRIPTION:
URL:https://deafhhcenter.org/event/4th-annual-back-to-school-and-ice-cream-bar/
LOCATION:Deaf and Hard of Hearing Center\, 5151 Mcardle Rd\, Corpus Christi\, TX\, United States
CATEGORIES:Corpus Christi
ATTACH;FMTTYPE=image/webp:https://deafhhcenter.org/wp-content/uploads/2025/05/B2SIceCreamBar25-01-scaled.webp
END:VEVENT
BEGIN:VEVENT
DTSTART;TZID=America/Chicago:20250723T183000
DTEND;TZID=America/Chicago:20250723T203000
DTSTAMP:20260423T142738
CREATED:20250502T175451Z
LAST-MODIFIED:20250502T175519Z
UID:10000826-1753295400-1753302600@deafhhcenter.org
SUMMARY:Conversational ASL III
DESCRIPTION:SIGN UP NOW
URL:https://deafhhcenter.org/event/conversational-asl-iii-2/2025-07-23/
LOCATION:Deaf and Hard of Hearing Center\, 5151 Mcardle Rd\, Corpus Christi\, TX\, United States
CATEGORIES:Corpus Christi
ATTACH;FMTTYPE=image/jpeg:https://deafhhcenter.org/wp-content/uploads/2025/05/SummerASLclasses-03-scaled.jpg
END:VEVENT
BEGIN:VEVENT
DTSTART;TZID=America/Chicago:20250722T183000
DTEND;TZID=America/Chicago:20250722T203000
DTSTAMP:20260423T142738
CREATED:20250502T175020Z
LAST-MODIFIED:20250502T175248Z
UID:10000818-1753209000-1753216200@deafhhcenter.org
SUMMARY:Conversational ASL II
DESCRIPTION:SIGN UP NOW
URL:https://deafhhcenter.org/event/conversational-asl-ii-2/2025-07-22/
LOCATION:Deaf and Hard of Hearing Center\, 5151 Mcardle Rd\, Corpus Christi\, TX\, United States
CATEGORIES:Corpus Christi
ATTACH;FMTTYPE=image/jpeg:https://deafhhcenter.org/wp-content/uploads/2025/05/SummerASLclasses-02-scaled.jpg
END:VEVENT
BEGIN:VEVENT
DTSTART;TZID=America/Chicago:20250721T183000
DTEND;TZID=America/Chicago:20250721T203000
DTSTAMP:20260423T142738
CREATED:20250502T164340Z
LAST-MODIFIED:20250502T165051Z
UID:10000803-1753122600-1753129800@deafhhcenter.org
SUMMARY:Conversational ASL I
DESCRIPTION:https://forms.office.com/r/41UjAV7aMP
URL:https://deafhhcenter.org/event/conversational-asl-i-2/2025-07-21/
LOCATION:Deaf and Hard of Hearing Center\, 5151 Mcardle Rd\, Corpus Christi\, TX\, United States
CATEGORIES:Corpus Christi
ATTACH;FMTTYPE=image/jpeg:https://deafhhcenter.org/wp-content/uploads/2025/05/SummerASLclasses-01-scaled.jpg
END:VEVENT
BEGIN:VEVENT
DTSTART;TZID=America/Chicago:20250719T090000
DTEND;TZID=America/Chicago:20250719T170000
DTSTAMP:20260423T142738
CREATED:20250409T180036Z
LAST-MODIFIED:20250521T172946Z
UID:10000831-1752915600-1752944400@deafhhcenter.org
SUMMARY:Summer Voyage 2025
DESCRIPTION:
URL:https://deafhhcenter.org/event/summer-voyage-2025-4/2025-07-19/
LOCATION:Deaf and Hard of Hearing Center\, 5151 Mcardle Rd\, Corpus Christi\, TX\, United States
CATEGORIES:Corpus Christi,Rio Grande Valley
ATTACH;FMTTYPE=image/jpeg:https://deafhhcenter.org/wp-content/uploads/2025/04/SummerVoyage25-01-1-scaled.jpg
END:VEVENT
BEGIN:VEVENT
DTSTART;TZID=America/Chicago:20250718T090000
DTEND;TZID=America/Chicago:20250718T170000
DTSTAMP:20260423T142738
CREATED:20250409T180036Z
LAST-MODIFIED:20250521T172946Z
UID:10000830-1752829200-1752858000@deafhhcenter.org
SUMMARY:Summer Voyage 2025
DESCRIPTION:
URL:https://deafhhcenter.org/event/summer-voyage-2025-4/2025-07-18/
LOCATION:Deaf and Hard of Hearing Center\, 5151 Mcardle Rd\, Corpus Christi\, TX\, United States
CATEGORIES:Corpus Christi,Rio Grande Valley
ATTACH;FMTTYPE=image/jpeg:https://deafhhcenter.org/wp-content/uploads/2025/04/SummerVoyage25-01-1-scaled.jpg
END:VEVENT
BEGIN:VEVENT
DTSTART;TZID=America/Chicago:20250717T090000
DTEND;TZID=America/Chicago:20250717T170000
DTSTAMP:20260423T142738
CREATED:20250409T180036Z
LAST-MODIFIED:20250521T172946Z
UID:10000829-1752742800-1752771600@deafhhcenter.org
SUMMARY:Summer Voyage 2025
DESCRIPTION:
URL:https://deafhhcenter.org/event/summer-voyage-2025-4/2025-07-17/
LOCATION:Deaf and Hard of Hearing Center\, 5151 Mcardle Rd\, Corpus Christi\, TX\, United States
CATEGORIES:Corpus Christi,Rio Grande Valley
ATTACH;FMTTYPE=image/jpeg:https://deafhhcenter.org/wp-content/uploads/2025/04/SummerVoyage25-01-1-scaled.jpg
END:VEVENT
BEGIN:VEVENT
DTSTART;TZID=America/Chicago:20250716T183000
DTEND;TZID=America/Chicago:20250716T203000
DTSTAMP:20260423T142738
CREATED:20250502T175451Z
LAST-MODIFIED:20250502T175519Z
UID:10000825-1752690600-1752697800@deafhhcenter.org
SUMMARY:Conversational ASL III
DESCRIPTION:SIGN UP NOW
URL:https://deafhhcenter.org/event/conversational-asl-iii-2/2025-07-16/
LOCATION:Deaf and Hard of Hearing Center\, 5151 Mcardle Rd\, Corpus Christi\, TX\, United States
CATEGORIES:Corpus Christi
ATTACH;FMTTYPE=image/jpeg:https://deafhhcenter.org/wp-content/uploads/2025/05/SummerASLclasses-03-scaled.jpg
END:VEVENT
BEGIN:VEVENT
DTSTART;TZID=America/Chicago:20250715T183000
DTEND;TZID=America/Chicago:20250715T203000
DTSTAMP:20260423T142738
CREATED:20250502T175020Z
LAST-MODIFIED:20250502T175248Z
UID:10000817-1752604200-1752611400@deafhhcenter.org
SUMMARY:Conversational ASL II
DESCRIPTION:SIGN UP NOW
URL:https://deafhhcenter.org/event/conversational-asl-ii-2/2025-07-15/
LOCATION:Deaf and Hard of Hearing Center\, 5151 Mcardle Rd\, Corpus Christi\, TX\, United States
CATEGORIES:Corpus Christi
ATTACH;FMTTYPE=image/jpeg:https://deafhhcenter.org/wp-content/uploads/2025/05/SummerASLclasses-02-scaled.jpg
END:VEVENT
BEGIN:VEVENT
DTSTART;TZID=America/Chicago:20250714T183000
DTEND;TZID=America/Chicago:20250714T203000
DTSTAMP:20260423T142738
CREATED:20250502T164340Z
LAST-MODIFIED:20250502T165051Z
UID:10000802-1752517800-1752525000@deafhhcenter.org
SUMMARY:Conversational ASL I
DESCRIPTION:https://forms.office.com/r/41UjAV7aMP
URL:https://deafhhcenter.org/event/conversational-asl-i-2/2025-07-14/
LOCATION:Deaf and Hard of Hearing Center\, 5151 Mcardle Rd\, Corpus Christi\, TX\, United States
CATEGORIES:Corpus Christi
ATTACH;FMTTYPE=image/jpeg:https://deafhhcenter.org/wp-content/uploads/2025/05/SummerASLclasses-01-scaled.jpg
END:VEVENT
BEGIN:VEVENT
DTSTART;TZID=America/Chicago:20250712T110000
DTEND;TZID=America/Chicago:20250712T140000
DTSTAMP:20260423T142738
CREATED:20250617T200746Z
LAST-MODIFIED:20250617T200748Z
UID:10000834-1752318000-1752328800@deafhhcenter.org
SUMMARY:Family BBQ
DESCRIPTION:
URL:https://deafhhcenter.org/event/family-bbq/
LOCATION:Deaf and Hard of Hearing Center\, 5151 Mcardle Rd\, Corpus Christi\, TX\, United States
CATEGORIES:Corpus Christi
ATTACH;FMTTYPE=image/webp:https://deafhhcenter.org/wp-content/uploads/2025/06/BBQFamily-01-scaled.webp
END:VEVENT
BEGIN:VEVENT
DTSTART;TZID=America/Chicago:20250711T090000
DTEND;TZID=America/Chicago:20250711T150000
DTSTAMP:20260423T142738
CREATED:20250428T202955Z
LAST-MODIFIED:20250502T165908Z
UID:10000792-1752224400-1752246000@deafhhcenter.org
SUMMARY:Sign Camp for Kids
DESCRIPTION:Sign Camp for Kids is just around the corner!Join us Monday through Friday\, July 8–12\, from 9:00am to 3:00pm at the Deaf and Hard of Hearing Center. \nThis fun and engaging camp is a wonderful opportunity for kids to learn American Sign Language (ASL)\, make new friends\, and participate in a variety of educational and creative activities — all in a supportive environment. \nDon’t miss out!Register your child today by clicking the link below: \nhttps://forms.office.com/r/Xa9EU5ExX6
URL:https://deafhhcenter.org/event/sign-camp-for-kids-2/2025-07-11/
LOCATION:Deaf and Hard of Hearing Center\, 5151 Mcardle Rd\, Corpus Christi\, TX\, United States
CATEGORIES:Corpus Christi
ATTACH;FMTTYPE=image/jpeg:https://deafhhcenter.org/wp-content/uploads/2025/04/SignCampforKids25-01-scaled.jpg
END:VEVENT
BEGIN:VEVENT
DTSTART;TZID=America/Chicago:20250710T090000
DTEND;TZID=America/Chicago:20250710T150000
DTSTAMP:20260423T142738
CREATED:20250428T202955Z
LAST-MODIFIED:20250502T165908Z
UID:10000791-1752138000-1752159600@deafhhcenter.org
SUMMARY:Sign Camp for Kids
DESCRIPTION:Sign Camp for Kids is just around the corner!Join us Monday through Friday\, July 8–12\, from 9:00am to 3:00pm at the Deaf and Hard of Hearing Center. \nThis fun and engaging camp is a wonderful opportunity for kids to learn American Sign Language (ASL)\, make new friends\, and participate in a variety of educational and creative activities — all in a supportive environment. \nDon’t miss out!Register your child today by clicking the link below: \nhttps://forms.office.com/r/Xa9EU5ExX6
URL:https://deafhhcenter.org/event/sign-camp-for-kids-2/2025-07-10/
LOCATION:Deaf and Hard of Hearing Center\, 5151 Mcardle Rd\, Corpus Christi\, TX\, United States
CATEGORIES:Corpus Christi
ATTACH;FMTTYPE=image/jpeg:https://deafhhcenter.org/wp-content/uploads/2025/04/SignCampforKids25-01-scaled.jpg
END:VEVENT
END:VCALENDAR