BEGIN:VCALENDAR
VERSION:2.0
PRODID:-//Deaf and Hard of Hearing Center - ECPv6.15.20//NONSGML v1.0//EN
CALSCALE:GREGORIAN
METHOD:PUBLISH
X-WR-CALNAME:Deaf and Hard of Hearing Center
X-ORIGINAL-URL:https://deafhhcenter.org
X-WR-CALDESC:Events for Deaf and Hard of Hearing Center
REFRESH-INTERVAL;VALUE=DURATION:PT1H
X-Robots-Tag:noindex
X-PUBLISHED-TTL:PT1H
BEGIN:VTIMEZONE
TZID:UTC
BEGIN:STANDARD
TZOFFSETFROM:+0000
TZOFFSETTO:+0000
TZNAME:UTC
DTSTART:20230101T000000
END:STANDARD
END:VTIMEZONE
BEGIN:VEVENT
DTSTART;TZID=UTC:20240914T190000
DTEND;TZID=UTC:20240915T020000
DTSTAMP:20260424T025028
CREATED:20240911T041531Z
LAST-MODIFIED:20240911T041703Z
UID:10000006-1726340400-1726365600@deafhhcenter.org
SUMMARY:Deaf Night Out
DESCRIPTION:Saturday\, September 14th \n7:00p.m. – 2:00a.m. \nAdults Only \nLITTLE WOODROW’S | Beers * Spirits * Sports * Patio \n1305 Airline Road\nCorpus Christi\, TX 78412 \nContact Information: Facebook inbox Deaf Night Out in Corpus Christi
URL:https://deafhhcenter.org/event/deaf-night-out/
LOCATION:TX
CATEGORIES:Corpus Christi
ATTACH;FMTTYPE=image/png:https://deafhhcenter.org/wp-content/uploads/2024/09/Screenshot-2024-09-10-at-6.12.35 PM.png
END:VEVENT
BEGIN:VEVENT
DTSTART;TZID=UTC:20240912T173000
DTEND;TZID=UTC:20240912T190000
DTSTAMP:20260424T025028
CREATED:20240911T033442Z
LAST-MODIFIED:20240911T042125Z
UID:10000002-1726162200-1726167600@deafhhcenter.org
SUMMARY:ASL Bingo!
DESCRIPTION:Explore Deaf Culture and learn simple signs through\nASL Bingo!
URL:https://deafhhcenter.org/event/asl-bingo/
LOCATION:Deaf and Hard of Hearing Center\, 5151 Mcardle Rd\, Corpus Christi\, TX\, United States
CATEGORIES:Corpus Christi
ATTACH;FMTTYPE=image/jpeg:https://deafhhcenter.org/wp-content/uploads/2024/09/3700952778212467678.jpg
END:VEVENT
BEGIN:VEVENT
DTSTART;TZID=UTC:20240907T090000
DTEND;TZID=UTC:20240907T180000
DTSTAMP:20260424T025028
CREATED:20240904T000732Z
LAST-MODIFIED:20240911T042234Z
UID:10000001-1725699600-1725732000@deafhhcenter.org
SUMMARY:DeafBlind Community of Texas
DESCRIPTION:9am-1pm: Co-Navigation 101\nEarn up to 0.4 CEUs (BEI Ethics) – $40 Entry\nParticipants will learn entry-level skills for working with DeafBlind individuals in community spaces. Workshop will be provided in ASL and English. Visit our website for registration and disclosures. \n3pm-6pm: DeafBlind Town Hall\nMeet & Greet co-hosted by TAD Region 3\, DHHC\, and DBCTX. Join this strong collaboration\, ask questions\, and share ideas on improving accessibility for the South Texas DeafBlind Community moving forward. Want to volunteer? Earn up to 0.3 CEUs (BEI Ethics)! Email Jen@dbctx.org directly to join this practicum! \n 
URL:https://deafhhcenter.org/event/deafblind-community-of-texas/
LOCATION:TX
CATEGORIES:Corpus Christi
ATTACH;FMTTYPE=image/jpeg:https://deafhhcenter.org/wp-content/uploads/2024/09/DeafBlind-Event-September-7-2024.jpg
END:VEVENT
END:VCALENDAR